BEGIN:VCALENDAR
VERSION:2.0
PRODID:-//Albatros Trois-Rivières - ECPv6.15.20//NONSGML v1.0//EN
CALSCALE:GREGORIAN
METHOD:PUBLISH
X-ORIGINAL-URL:https://albatros3r.com
X-WR-CALDESC:Évènements pour Albatros Trois-Rivières
REFRESH-INTERVAL;VALUE=DURATION:PT1H
X-Robots-Tag:noindex
X-PUBLISHED-TTL:PT1H
BEGIN:VTIMEZONE
TZID:America/Toronto
BEGIN:DAYLIGHT
TZOFFSETFROM:-0500
TZOFFSETTO:-0400
TZNAME:EDT
DTSTART:20240310T070000
END:DAYLIGHT
BEGIN:STANDARD
TZOFFSETFROM:-0400
TZOFFSETTO:-0500
TZNAME:EST
DTSTART:20241103T060000
END:STANDARD
BEGIN:DAYLIGHT
TZOFFSETFROM:-0500
TZOFFSETTO:-0400
TZNAME:EDT
DTSTART:20250309T070000
END:DAYLIGHT
BEGIN:STANDARD
TZOFFSETFROM:-0400
TZOFFSETTO:-0500
TZNAME:EST
DTSTART:20251102T060000
END:STANDARD
BEGIN:DAYLIGHT
TZOFFSETFROM:-0500
TZOFFSETTO:-0400
TZNAME:EDT
DTSTART:20260308T070000
END:DAYLIGHT
BEGIN:STANDARD
TZOFFSETFROM:-0400
TZOFFSETTO:-0500
TZNAME:EST
DTSTART:20261101T060000
END:STANDARD
END:VTIMEZONE
BEGIN:VEVENT
DTSTART;TZID=America/Toronto:20250313T130000
DTEND;TZID=America/Toronto:20250313T160000
DTSTAMP:20260420T075131
CREATED:20250211T185931Z
LAST-MODIFIED:20250211T185931Z
UID:1529-1741870800-1741881600@albatros3r.com
SUMMARY:Formation "Aide médicale à mourir"
DESCRIPTION:                              Formation Aide médicale à mourir\nParticipez à une formation captivante animée par Madame Martine Fortier\, responsable des formations à la Fédération Albatros ! \nCette session\, toujours très attendue\, aborde des sujets essentiels autour de l’aide médicale à mourir\, qui suscite de nombreuses questions et préoccupations au sein du grand public. \nCet événement est réservé exclusivement aux bénévoles d’Albatros Trois-Rivières. Ne manquez pas cette occasion unique ! Inscrivez-vous dès maintenant !
URL:https://albatros3r.com/activite/formation-aide-medicale-a-mourir/
LOCATION:1800 rue St-Paul Trois-Rivières\, 126-1800 rue St-Paul\, Trois-Rivires\, Québec\, G9A 1J7\, Canada
CATEGORIES:Formation
ATTACH;FMTTYPE=image/png:https://albatros3r.com/wp-content/uploads/2025/02/Aide-medicale-a-mourir-.png
ORGANIZER;CN="Comit%C3%A9 activit%C3%A9s":MAILTO:info@albatros3r.com
END:VEVENT
BEGIN:VEVENT
DTSTART;TZID=America/Toronto:20250317T133000
DTEND;TZID=America/Toronto:20250317T153000
DTSTAMP:20260420T075131
CREATED:20241228T193747Z
LAST-MODIFIED:20241228T193747Z
UID:1482-1742218200-1742225400@albatros3r.com
SUMMARY:Atelier sur la gestion du stress et de l'anxiété
DESCRIPTION:Atelier sur la gestion du stress et de l’anxiété – pour les membres Albatros Trois-Rivières\nVoilà un deux heures bien investies ! Madame Maltais est éducatrice spécialisée et est aussi une intervenante de premier plan dans l’introspection de notre propre gestion du stress dans notre quotidien. Cette activité s’adresse aux membres et bénévoles d’Albatros Trois-Rivières.
URL:https://albatros3r.com/activite/atelier-sur-la-gestion-du-stress-et-de-lanxiete/
LOCATION:1800 rue St-Paul Trois-Rivières\, 126-1800 rue St-Paul\, Trois-Rivires\, Québec\, G9A 1J7\, Canada
CATEGORIES:Formation
ATTACH;FMTTYPE=image/png:https://albatros3r.com/wp-content/uploads/2024/12/Gestion-anxiete-avec-Josee-Maltais.png
ORGANIZER;CN="Comit%C3%A9 activit%C3%A9s":MAILTO:info@albatros3r.com
END:VEVENT
BEGIN:VEVENT
DTSTART;TZID=America/Toronto:20250324T133000
DTEND;TZID=America/Toronto:20250324T153000
DTSTAMP:20260420T075131
CREATED:20241228T194704Z
LAST-MODIFIED:20241228T194704Z
UID:1485-1742823000-1742830200@albatros3r.com
SUMMARY:Atelier sur la gestion du stress et de l'anxiété
DESCRIPTION:Atelier sur la gestion du stress et de l’anxiété – pour les membres Albatros Trois-Rivières\nVoilà un deux heures bien investies ! Madame Maltais est éducatrice spécialisée et est aussi une intervenante de premier plan dans l’introspection de notre propre gestion du stress dans notre quotidien. Cette activité s’adresse aux membres et bénévoles d’Albatros Trois-Rivières.
URL:https://albatros3r.com/activite/atelier-sur-la-gestion-du-stress-et-de-lanxiete-2/
LOCATION:1800 rue St-Paul Trois-Rivières\, 126-1800 rue St-Paul\, Trois-Rivires\, Québec\, G9A 1J7\, Canada
CATEGORIES:Formation
ATTACH;FMTTYPE=image/png:https://albatros3r.com/wp-content/uploads/2024/12/Gestion-anxiete-avec-Josee-Maltais-2.png
ORGANIZER;CN="Comit%C3%A9 activit%C3%A9s":MAILTO:info@albatros3r.com
END:VEVENT
END:VCALENDAR