BEGIN:VCALENDAR
VERSION:2.0
PRODID:-//Albatros Trois-Rivières - ECPv6.15.20//NONSGML v1.0//EN
CALSCALE:GREGORIAN
METHOD:PUBLISH
X-WR-CALNAME:Albatros Trois-Rivières
X-ORIGINAL-URL:https://albatros3r.com
X-WR-CALDESC:Évènements pour Albatros Trois-Rivières
REFRESH-INTERVAL;VALUE=DURATION:PT1H
X-Robots-Tag:noindex
X-PUBLISHED-TTL:PT1H
BEGIN:VTIMEZONE
TZID:America/Toronto
BEGIN:DAYLIGHT
TZOFFSETFROM:-0500
TZOFFSETTO:-0400
TZNAME:EDT
DTSTART:20240310T070000
END:DAYLIGHT
BEGIN:STANDARD
TZOFFSETFROM:-0400
TZOFFSETTO:-0500
TZNAME:EST
DTSTART:20241103T060000
END:STANDARD
BEGIN:DAYLIGHT
TZOFFSETFROM:-0500
TZOFFSETTO:-0400
TZNAME:EDT
DTSTART:20250309T070000
END:DAYLIGHT
BEGIN:STANDARD
TZOFFSETFROM:-0400
TZOFFSETTO:-0500
TZNAME:EST
DTSTART:20251102T060000
END:STANDARD
BEGIN:DAYLIGHT
TZOFFSETFROM:-0500
TZOFFSETTO:-0400
TZNAME:EDT
DTSTART:20260308T070000
END:DAYLIGHT
BEGIN:STANDARD
TZOFFSETFROM:-0400
TZOFFSETTO:-0500
TZNAME:EST
DTSTART:20261101T060000
END:STANDARD
END:VTIMEZONE
BEGIN:VEVENT
DTSTART;TZID=America/Toronto:20250122T133000
DTEND;TZID=America/Toronto:20250122T163000
DTSTAMP:20260420T123414
CREATED:20241225T205551Z
LAST-MODIFIED:20241225T205551Z
UID:1458-1737552600-1737563400@albatros3r.com
SUMMARY:Formation de 36 heures Accompagnement d'une personne en fin de vie
DESCRIPTION:Début de la formation de 36 heures au 1800 rue St-Paul local 216 Trois-Rivières\nCette formation est très populaire ! Faites vite pour réserver votre place ! Cette formation est un bon outil pour vous (accompagner vos proches) ou pour devenir bénévole et faire la différence pour un ou une malade. \n 
URL:https://albatros3r.com/activite/formation-de-36-heures-accompagnement-dune-personne-en-fin-de-vie/
LOCATION:1800 rue St-Paul Trois-Rivières\, 126-1800 rue St-Paul\, Trois-Rivires\, Québec\, G9A 1J7\, Canada
CATEGORIES:Formation
ATTACH;FMTTYPE=image/png:https://albatros3r.com/wp-content/uploads/2024/12/Formation-36-heures.png
ORGANIZER;CN="Comit%C3%A9 activit%C3%A9s":MAILTO:info@albatros3r.com
END:VEVENT
END:VCALENDAR